BEGIN:VCALENDAR
VERSION:2.0
PRODID:-//Connect Mission - ECPv6.15.20//NONSGML v1.0//EN
CALSCALE:GREGORIAN
METHOD:PUBLISH
X-WR-CALNAME:Connect Mission
X-ORIGINAL-URL:https://connect-mission.at
X-WR-CALDESC:Veranstaltungen für Connect Mission
REFRESH-INTERVAL;VALUE=DURATION:PT1H
X-Robots-Tag:noindex
X-PUBLISHED-TTL:PT1H
BEGIN:VTIMEZONE
TZID:Europe/Paris
BEGIN:DAYLIGHT
TZOFFSETFROM:+0100
TZOFFSETTO:+0200
TZNAME:CEST
DTSTART:20250330T010000
END:DAYLIGHT
BEGIN:STANDARD
TZOFFSETFROM:+0200
TZOFFSETTO:+0100
TZNAME:CET
DTSTART:20251026T010000
END:STANDARD
BEGIN:DAYLIGHT
TZOFFSETFROM:+0100
TZOFFSETTO:+0200
TZNAME:CEST
DTSTART:20260329T010000
END:DAYLIGHT
BEGIN:STANDARD
TZOFFSETFROM:+0200
TZOFFSETTO:+0100
TZNAME:CET
DTSTART:20261025T010000
END:STANDARD
BEGIN:DAYLIGHT
TZOFFSETFROM:+0100
TZOFFSETTO:+0200
TZNAME:CEST
DTSTART:20270328T010000
END:DAYLIGHT
BEGIN:STANDARD
TZOFFSETFROM:+0200
TZOFFSETTO:+0100
TZNAME:CET
DTSTART:20271031T010000
END:STANDARD
END:VTIMEZONE
BEGIN:VEVENT
DTSTART;VALUE=DATE:20260321
DTEND;VALUE=DATE:20260526
DTSTAMP:20260422T121127
CREATED:20260302T212746Z
LAST-MODIFIED:20260302T215842Z
UID:25826-1774051200-1779753599@connect-mission.at
SUMMARY:Ostergarten
DESCRIPTION:Der Ostergarten ist selbsterklärend und bis 25.Mai zu begehen.Gerne auch für Gruppen. \nPer Anfrage gern mit Moderation bzw.Führung. 0664|38 33 897
URL:https://connect-mission.at/event/ostergarten
END:VEVENT
BEGIN:VEVENT
DTSTART;TZID=Europe/Paris:20260417T140000
DTEND;TZID=Europe/Paris:20260417T180000
DTSTAMP:20260422T121127
CREATED:20260302T205849Z
LAST-MODIFIED:20260302T211541Z
UID:25819-1776434400-1776448800@connect-mission.at
SUMMARY:Geistiger Input mit Angebot zum Heilungsgebet
DESCRIPTION:Dechant Kons. Rat Anton Opetnik. Priester seit 1974\, Pfarrer und Dechant in Grafenstein. Zusätzlich zu meinem Dienst bin ich verantwortlich für die Charismatische Erneuerung für Kärnten. Seit 1992 biete ich Seminare für die „Aufarbeitung der Lebensgeschichte“\, auch Innere Heilung an.
URL:https://connect-mission.at/event/geistiger-input-mit-angebot-zum-heilungsgebet
LOCATION:Connect Missions- und Gebetshaus\, Unterfladnitz 23\, St. Ruprecht/R.\, 8181\, Österreich
ATTACH;FMTTYPE=image/jpeg:https://connect-mission.at/wp-content/uploads/2026/03/Opetnik-Kopie.jpg
ORGANIZER;CN="Connect Missions- und Gebetshaus":MAILTO:office@connect-mission.at
END:VEVENT
END:VCALENDAR