BEGIN:VCALENDAR
VERSION:2.0
PRODID:-//Connect Mission - ECPv6.15.20//NONSGML v1.0//EN
CALSCALE:GREGORIAN
METHOD:PUBLISH
X-WR-CALNAME:Connect Mission
X-ORIGINAL-URL:https://connect-mission.at
X-WR-CALDESC:Veranstaltungen für Connect Mission
REFRESH-INTERVAL;VALUE=DURATION:PT1H
X-Robots-Tag:noindex
X-PUBLISHED-TTL:PT1H
BEGIN:VTIMEZONE
TZID:Europe/Paris
BEGIN:DAYLIGHT
TZOFFSETFROM:+0100
TZOFFSETTO:+0200
TZNAME:CEST
DTSTART:20250330T010000
END:DAYLIGHT
BEGIN:STANDARD
TZOFFSETFROM:+0200
TZOFFSETTO:+0100
TZNAME:CET
DTSTART:20251026T010000
END:STANDARD
BEGIN:DAYLIGHT
TZOFFSETFROM:+0100
TZOFFSETTO:+0200
TZNAME:CEST
DTSTART:20260329T010000
END:DAYLIGHT
BEGIN:STANDARD
TZOFFSETFROM:+0200
TZOFFSETTO:+0100
TZNAME:CET
DTSTART:20261025T010000
END:STANDARD
BEGIN:DAYLIGHT
TZOFFSETFROM:+0100
TZOFFSETTO:+0200
TZNAME:CEST
DTSTART:20270328T010000
END:DAYLIGHT
BEGIN:STANDARD
TZOFFSETFROM:+0200
TZOFFSETTO:+0100
TZNAME:CET
DTSTART:20271031T010000
END:STANDARD
END:VTIMEZONE
BEGIN:VEVENT
DTSTART;TZID=Europe/Paris:20260612T140000
DTEND;TZID=Europe/Paris:20260613T180000
DTSTAMP:20260422T164543
CREATED:20240903T190614Z
LAST-MODIFIED:20251228T145838Z
UID:25578-1781272800-1781373600@connect-mission.at
SUMMARY:„Sturmsichere Identität\, die die Welt berührt"
DESCRIPTION:Ehemann und Vater von zwei Kindern\, Gründer der Face to Face Kirche\, Direktor von der Heldenschule in Deutschland\, Autor von „Freiheit ruft“\, Bibelschullehrer über Identität und Gegenwart Gottes\, Reisedienst als Sprecher auf diversen Konferenzen und zahlreichen Gemeinden. \nWann:\n12. und 13. Juni 2026 \nBeginn:\nFr 14:00 Uhr bis ca. 18:00 Uhr\nSa 10:00 Uhr bis ca. 18:00 Uhr \nAnmeldung unter\noffice @connect-mission.at oder +43 664 38 33 897
URL:https://connect-mission.at/event/sturmsichere-identitaet-die-die-welt-beruehrt
LOCATION:Connect Missions- und Gebetshaus\, Unterfladnitz 23\, St. Ruprecht/R.\, 8181\, Österreich
ATTACH;FMTTYPE=image/jpeg:https://connect-mission.at/wp-content/uploads/2024/09/Corad-Max-Gille-Kopie.jpg
ORGANIZER;CN="Connect Missions- und Gebetshaus":MAILTO:office@connect-mission.at
END:VEVENT
END:VCALENDAR