BEGIN:VCALENDAR
VERSION:2.0
PRODID:-//Connect Mission - ECPv6.15.20//NONSGML v1.0//EN
CALSCALE:GREGORIAN
METHOD:PUBLISH
X-ORIGINAL-URL:https://connect-mission.at
X-WR-CALDESC:Veranstaltungen für Connect Mission
REFRESH-INTERVAL;VALUE=DURATION:PT1H
X-Robots-Tag:noindex
X-PUBLISHED-TTL:PT1H
BEGIN:VTIMEZONE
TZID:Europe/Paris
BEGIN:DAYLIGHT
TZOFFSETFROM:+0100
TZOFFSETTO:+0200
TZNAME:CEST
DTSTART:20250330T010000
END:DAYLIGHT
BEGIN:STANDARD
TZOFFSETFROM:+0200
TZOFFSETTO:+0100
TZNAME:CET
DTSTART:20251026T010000
END:STANDARD
BEGIN:DAYLIGHT
TZOFFSETFROM:+0100
TZOFFSETTO:+0200
TZNAME:CEST
DTSTART:20260329T010000
END:DAYLIGHT
BEGIN:STANDARD
TZOFFSETFROM:+0200
TZOFFSETTO:+0100
TZNAME:CET
DTSTART:20261025T010000
END:STANDARD
BEGIN:DAYLIGHT
TZOFFSETFROM:+0100
TZOFFSETTO:+0200
TZNAME:CEST
DTSTART:20270328T010000
END:DAYLIGHT
BEGIN:STANDARD
TZOFFSETFROM:+0200
TZOFFSETTO:+0100
TZNAME:CET
DTSTART:20271031T010000
END:STANDARD
END:VTIMEZONE
BEGIN:VEVENT
DTSTART;TZID=Europe/Paris:20260304T190000
DTEND;TZID=Europe/Paris:20260304T203000
DTSTAMP:20260422T122413
CREATED:20240907T141226Z
LAST-MODIFIED:20250909T190214Z
UID:25644-1772650800-1772656200@connect-mission.at
SUMMARY:Mutig?!
DESCRIPTION:Suchst du eine Gemeinschaft\, in der du gemeinsam mit anderen Männern zu einem starken Mann heranwachsen möchtest? Wir sind überzeugt\, dass der christliche Glaube das beste Fundament dafür ist. Darum sei mutig\, überwinde die Schwelle der Skepsis und probiere etwas Neues aus. In den unterschiedlichsten Einheiten werden wir zusammen Ernsthaftigkeit\, Spaß\, Diskussionen\, Vorträge\, tiefe Gespräche uvm. erleben. Darum sei dabei!
URL:https://connect-mission.at/event/mutig-23
LOCATION:Connect Missions- und Gebetshaus\, Unterfladnitz 23\, St. Ruprecht/R.\, 8181\, Österreich
CATEGORIES:Mutig
ATTACH;FMTTYPE=image/jpeg:https://connect-mission.at/wp-content/uploads/2022/02/MUTIG_Seite_1.jpg
ORGANIZER;CN="Connect Missions- und Gebetshaus":MAILTO:office@connect-mission.at
END:VEVENT
BEGIN:VEVENT
DTSTART;TZID=Europe/Paris:20260312T193000
DTEND;TZID=Europe/Paris:20260312T203000
DTSTAMP:20260422T122413
CREATED:20260302T210924Z
LAST-MODIFIED:20260302T210924Z
UID:25821-1773343800-1773347400@connect-mission.at
SUMMARY:Ich dachte ich sei frei
DESCRIPTION:In Ihrem Lebenszeugnis spricht Julia Russwurm über ihren Weg aus der Sucht. \nTun was sie wollte\, hat sie schon in sehr früher Jugend in eine schwere Abhängigkeit zu Drogen und Alkohol gebracht. Sie erzählt was sie erlebt hat\, und wie Jesus sie wirklich frei gemacht und wieder hergestellt hat.
URL:https://connect-mission.at/event/ich-dachte-ich-sei-frei
CATEGORIES:Fit im Glauben
ATTACH;FMTTYPE=image/jpeg:https://connect-mission.at/wp-content/uploads/2026/03/WhatsApp-Image-2026-03-02-at-21.04.07.jpeg
ORGANIZER;CN="Connect Missions- und Gebetshaus":MAILTO:office@connect-mission.at
END:VEVENT
BEGIN:VEVENT
DTSTART;TZID=Europe/Paris:20260312T193000
DTEND;TZID=Europe/Paris:20260312T210000
DTSTAMP:20260422T122413
CREATED:20240903T174030Z
LAST-MODIFIED:20250909T185509Z
UID:25521-1773343800-1773349200@connect-mission.at
SUMMARY:Fit im Glauben
DESCRIPTION:Den Glauben neu entdecken bzw. vertiefen. Das Leben hat soviel mehr zu bieten. Durch wertvolle\, lebensnahe Impulse und Lobpreismusik\, kann jeder auftanken und sich ermutigen lassen. Gebet und Gemeinschaft geben Kraft und Freude.
URL:https://connect-mission.at/event/fit-im-glauben-32
LOCATION:Connect Missions- und Gebetshaus\, Unterfladnitz 23\, St. Ruprecht/R.\, 8181\, Österreich
CATEGORIES:Fit im Glauben
ATTACH;FMTTYPE=image/jpeg:https://connect-mission.at/wp-content/uploads/2023/11/FitimGlauben-Neu.jpg
ORGANIZER;CN="Connect Missions- und Gebetshaus":MAILTO:office@connect-mission.at
END:VEVENT
BEGIN:VEVENT
DTSTART;TZID=Europe/Paris:20260315T140000
DTEND;TZID=Europe/Paris:20260315T180000
DTSTAMP:20260422T122413
CREATED:20250803T204837Z
LAST-MODIFIED:20250803T204837Z
UID:25780-1773583200-1773597600@connect-mission.at
SUMMARY:Tobias Kley
DESCRIPTION:Sein Herz schlägt für junge Menschen. Als ehemaliger Zehnkämpfer und Boxer versuchte er den Sinn des Lebens im Sport zu finden. In Jesus Christus hat der heutige Evangelist und Prediger seine Lebenserfüllung gefunden. Als ausgebildeter Erlebnispädagoge liebt er es\, andere herauszufordern und von seinen Begegnungen mit dem lebendigen Gott zu erzählen.
URL:https://connect-mission.at/event/tobias-kley
LOCATION:Connect Missions- und Gebetshaus\, Unterfladnitz 23\, St. Ruprecht/R.\, 8181\, Österreich
ATTACH;FMTTYPE=image/jpeg:https://connect-mission.at/wp-content/uploads/2025/08/Tobi-Kley-Kopie-1.jpg
ORGANIZER;CN="Connect Missions- und Gebetshaus":MAILTO:office@connect-mission.at
END:VEVENT
BEGIN:VEVENT
DTSTART;VALUE=DATE:20260321
DTEND;VALUE=DATE:20260526
DTSTAMP:20260422T122413
CREATED:20260302T212746Z
LAST-MODIFIED:20260302T215842Z
UID:25826-1774051200-1779753599@connect-mission.at
SUMMARY:Ostergarten
DESCRIPTION:Der Ostergarten ist selbsterklärend und bis 25.Mai zu begehen.Gerne auch für Gruppen. \nPer Anfrage gern mit Moderation bzw.Führung. 0664|38 33 897
URL:https://connect-mission.at/event/ostergarten
END:VEVENT
BEGIN:VEVENT
DTSTART;TZID=Europe/Paris:20260326T193000
DTEND;TZID=Europe/Paris:20260326T210000
DTSTAMP:20260422T122413
CREATED:20240903T173719Z
LAST-MODIFIED:20250909T185528Z
UID:25517-1774553400-1774558800@connect-mission.at
SUMMARY:Fit im Glauben
DESCRIPTION:Den Glauben neu entdecken bzw. vertiefen. Das Leben hat soviel mehr zu bieten. Durch wertvolle\, lebensnahe Impulse und Lobpreismusik\, kann jeder auftanken und sich ermutigen lassen. Gebet und Gemeinschaft geben Kraft und Freude.
URL:https://connect-mission.at/event/fit-im-glauben-31
LOCATION:Connect Missions- und Gebetshaus\, Unterfladnitz 23\, St. Ruprecht/R.\, 8181\, Österreich
CATEGORIES:Fit im Glauben
ATTACH;FMTTYPE=image/jpeg:https://connect-mission.at/wp-content/uploads/2023/11/FitimGlauben-Neu.jpg
ORGANIZER;CN="Connect Missions- und Gebetshaus":MAILTO:office@connect-mission.at
END:VEVENT
END:VCALENDAR